BEGIN:VCALENDAR
VERSION:2.0
PRODID:-//Plone.org//NONSGML plone.app.event//EN
X-WR-TIMEZONE:America/Maceio
BEGIN:VEVENT
SUMMARY:Temas Práticos em Alergia e Imunologia Clínica
DTSTART;TZID=America/Maceio:20200803T000000
DTEND;TZID=America/Maceio:20200827T000000
DTSTAMP:20260420T111608Z
UID:2cfd006ca6b843d4aa64426bd50e2287@famed.ufal.br
CREATED:20200723T121305Z
DESCRIPTION:No Currículo do Curso de Medicina da FAMED/UFAL não temos a 
 disciplina de Alergia e Imunologia obrigatória\, essa atividade visa tent
 ar suprir essa lacuna e proporcionar ao aluno de graduação uma compreens
 ão sobre os mecanismos envolvidos na resposta imune e alérgica\, com foc
 o específico no conhecimento das principais manifestações alérgicas e 
 erros inatos da imunidade.
LAST-MODIFIED:20230215T130917Z
URL:https://famed.ufal.br/pt-br/graduacao/medicina/outros-assuntos/ativida
 des-remotas-complementares/temas-praticos-em-alergia-e-imunologia-clinica
END:VEVENT
BEGIN:VTIMEZONE
TZID:America/Maceio
X-LIC-LOCATION:America/Maceio
BEGIN:STANDARD
DTSTART:20020216T230000
TZNAME:-03
TZOFFSETFROM:-0200
TZOFFSETTO:-0300
END:STANDARD
END:VTIMEZONE
END:VCALENDAR
