BEGIN:VCALENDAR
VERSION:2.0
PRODID:-//Plone.org//NONSGML plone.app.event//EN
X-WR-TIMEZONE:America/Maceio
BEGIN:VEVENT
SUMMARY:Parasitoses Raras
DTSTART;TZID=America/Maceio:20200901T000000
DTEND;TZID=America/Maceio:20200929T000000
DTSTAMP:20260420T045211Z
UID:67794659ee674eac8b9a8f140d3030b4@famed.ufal.br
CREATED:20200820T151857Z
DESCRIPTION:Abordar algumas parasitoses raras que afetam a saúde humana\,
  mas que não são contempladas no conteúdo ministrado do módulo de Agre
 ssão e Defesa.
LAST-MODIFIED:20230215T130917Z
URL:https://famed.ufal.br/pt-br/graduacao/medicina/outros-assuntos/ativida
 des-remotas-complementares/parasitoses-raras
END:VEVENT
BEGIN:VTIMEZONE
TZID:America/Maceio
X-LIC-LOCATION:America/Maceio
BEGIN:STANDARD
DTSTART:20020216T230000
TZNAME:-03
TZOFFSETFROM:-0200
TZOFFSETTO:-0300
END:STANDARD
END:VTIMEZONE
END:VCALENDAR
