BEGIN:VCALENDAR
VERSION:2.0
PRODID:-//Plone.org//NONSGML plone.app.event//EN
X-WR-TIMEZONE:America/Maceio
BEGIN:VEVENT
SUMMARY:NOÇÕES BÁSICAS E INTERPRETAÇÃO CLÍNICA DO ELETROCARDIOGRAMA 
 PARA OS ESTUDANTES DE MEDICINA
DTSTART;TZID=America/Maceio:20200727T000000
DTEND;TZID=America/Maceio:20200914T000000
DTSTAMP:20260420T161201Z
UID:441bf602eb804e5a8fbe0da4f20164ce@famed.ufal.br
CREATED:20200720T182047Z
DESCRIPTION:Iniciar o aprendizado sobre ECG e aguçar a curiosidade do alu
 no para esse método tão importante do diagnóstico de patologias cardiov
 asculares. Muito importante o médico\, de quaisquer especialidade\, ter u
 ma noção básica sobre ECG.
LAST-MODIFIED:20230215T130917Z
URL:https://famed.ufal.br/pt-br/graduacao/medicina/outros-assuntos/ativida
 des-remotas-complementares/nocoes-basicas-e-interpretacao-clinica-do-eletr
 ocardiograma-para-os-estudantes-de-medicina
END:VEVENT
BEGIN:VTIMEZONE
TZID:America/Maceio
X-LIC-LOCATION:America/Maceio
BEGIN:STANDARD
DTSTART:20020216T230000
TZNAME:-03
TZOFFSETFROM:-0200
TZOFFSETTO:-0300
END:STANDARD
END:VTIMEZONE
END:VCALENDAR
