BEGIN:VCALENDAR
VERSION:2.0
PRODID:-//Plone.org//NONSGML plone.app.event//EN
X-WR-TIMEZONE:America/Maceio
BEGIN:VEVENT
SUMMARY:Minicurso de Insuficiência Cardíaca - parte I
DTSTART;TZID=America/Maceio:20201003T000000
DTEND;TZID=America/Maceio:20201030T000000
DTSTAMP:20260420T140617Z
UID:ba85646ec1df4c3a9a91674837bf0afa@famed.ufal.br
CREATED:20200812T143733Z
DESCRIPTION:Curso introdutório - Insuficiência Cardíaca
LAST-MODIFIED:20230215T130917Z
URL:https://famed.ufal.br/pt-br/graduacao/medicina/outros-assuntos/ativida
 des-remotas-complementares/minicurso-de-insuficiencia-cardiaca-parte-i
END:VEVENT
BEGIN:VTIMEZONE
TZID:America/Maceio
X-LIC-LOCATION:America/Maceio
BEGIN:STANDARD
DTSTART:20020216T230000
TZNAME:-03
TZOFFSETFROM:-0200
TZOFFSETTO:-0300
END:STANDARD
END:VTIMEZONE
END:VCALENDAR
