BEGIN:VCALENDAR
VERSION:2.0
PRODID:-//Plone.org//NONSGML plone.app.event//EN
X-WR-TIMEZONE:America/Maceio
BEGIN:VEVENT
SUMMARY:Diagnóstico diferencial em Gastroenterologia e Hepatologia
DTSTART;TZID=America/Maceio:20200817T000000
DTEND;TZID=America/Maceio:20201010T000000
DTSTAMP:20260420T165440Z
UID:b4e30e5db755476b854d1c57f27da988@famed.ufal.br
CREATED:20200803T173426Z
DESCRIPTION:Estudo do quadro clínico\, diagnóstico diferencial provávei
 s etiologias implicadas nas principais doenças na área de gastroenterolo
 gia clínica. Solicitação e interpretação de exames complementares (la
 boratoriais\, de imagem e morfopatológicos) necessários à definição d
 o diagnóstico\, de maneira racional. Conhecimento sobre estratégias de p
 revenção e principais diretrizes para o tratamento das doenças abordada
 s.
LAST-MODIFIED:20230215T130917Z
URL:https://famed.ufal.br/pt-br/graduacao/medicina/outros-assuntos/ativida
 des-remotas-complementares/diagnostico-diferencial-em-gastroenterologia-e-
 hepatologia
END:VEVENT
BEGIN:VTIMEZONE
TZID:America/Maceio
X-LIC-LOCATION:America/Maceio
BEGIN:STANDARD
DTSTART:20020216T230000
TZNAME:-03
TZOFFSETFROM:-0200
TZOFFSETTO:-0300
END:STANDARD
END:VTIMEZONE
END:VCALENDAR
