BEGIN:VCALENDAR
VERSION:2.0
PRODID:-//Plone.org//NONSGML plone.app.event//EN
X-WR-TIMEZONE:America/Maceio
BEGIN:VEVENT
SUMMARY:Minicurso de Semiologia do Idoso
DTSTART;TZID=America/Maceio:20200728T000000
DTEND;TZID=America/Maceio:20200908T000000
DTSTAMP:20260420T125231Z
UID:3e286daaaa394d4090a525821ee84ad7@famed.ufal.br
CREATED:20200715T184316Z
DESCRIPTION:O número de idosos vem crescendo rapidamente em nossa popula
 ção. O fenômeno é mundial\, mas ocorre de maneira acelerada nos paíse
 s em desenvolvimento\, incluindo o Brasil. Apesar do avanço\, grande part
 e dos currículos médicos ainda não estão preparados para absorver tal 
 demanda\, com poucos conteúdos ou poucas oportunidades para desenvolver h
 abilidades específicas no atendimento ao idoso. Deste modo\, é important
 e que o discente de medicina tenha contato com as peculiaridades da avalia
 ção semiológica do idoso
LAST-MODIFIED:20230215T130917Z
URL:https://famed.ufal.br/pt-br/graduacao/medicina/outros-assuntos/ativida
 des-remotas-complementares/curso-gestao-da-comunicacao-e-redes-sociais-dig
 itais-para-a-administracao-publica-turma-b
END:VEVENT
BEGIN:VTIMEZONE
TZID:America/Maceio
X-LIC-LOCATION:America/Maceio
BEGIN:STANDARD
DTSTART:20020216T230000
TZNAME:-03
TZOFFSETFROM:-0200
TZOFFSETTO:-0300
END:STANDARD
END:VTIMEZONE
END:VCALENDAR
